BEGIN:VCALENDAR
VERSION:2.0
PRODID:-//Opticalia Zorrilla 49 - ECPv6.14.1//NONSGML v1.0//EN
CALSCALE:GREGORIAN
METHOD:PUBLISH
X-ORIGINAL-URL:https://opticaliazorrilla49.es
X-WR-CALDESC:Eventos para Opticalia Zorrilla 49
REFRESH-INTERVAL;VALUE=DURATION:PT1H
X-Robots-Tag:noindex
X-PUBLISHED-TTL:PT1H
BEGIN:VTIMEZONE
TZID:UTC
BEGIN:STANDARD
TZOFFSETFROM:+0000
TZOFFSETTO:+0000
TZNAME:UTC
DTSTART:20240101T000000
END:STANDARD
END:VTIMEZONE
BEGIN:VEVENT
DTSTART;VALUE=DATE:20240729
DTEND;VALUE=DATE:20240805
DTSTAMP:20260424T085433
CREATED:20240417T114708Z
LAST-MODIFIED:20240417T114708Z
UID:2047-1722211200-1722815999@opticaliazorrilla49.es
SUMMARY:Vacaciones Alberto Rojo
DESCRIPTION:Vacaciones. Del 29 de julio al 4 de agosto. 7 días.
URL:https://opticaliazorrilla49.es/evento/vacaciones-alberto-rojo-3/
CATEGORIES:Vacaciones
END:VEVENT
BEGIN:VEVENT
DTSTART;VALUE=DATE:20240805
DTEND;VALUE=DATE:20240812
DTSTAMP:20260424T085433
CREATED:20240520T090040Z
LAST-MODIFIED:20240520T090040Z
UID:2213-1722816000-1723420799@opticaliazorrilla49.es
SUMMARY:Vacaciones Paula
DESCRIPTION:Vacaciones. Del 5 al 11 de agosto. 7 días.
URL:https://opticaliazorrilla49.es/evento/vacaciones-paula-2/
CATEGORIES:Vacaciones
END:VEVENT
BEGIN:VEVENT
DTSTART;VALUE=DATE:20240812
DTEND;VALUE=DATE:20240819
DTSTAMP:20260424T085433
CREATED:20240506T071813Z
LAST-MODIFIED:20240506T071813Z
UID:2147-1723420800-1724025599@opticaliazorrilla49.es
SUMMARY:Vacaciones Alberto Rojo
DESCRIPTION:Vacaciones. Del 12 al 18 de agosto. 7 días
URL:https://opticaliazorrilla49.es/evento/vacaciones-alberto-rojo-4/
CATEGORIES:Vacaciones
END:VEVENT
BEGIN:VEVENT
DTSTART;VALUE=DATE:20240812
DTEND;VALUE=DATE:20240826
DTSTAMP:20260424T085433
CREATED:20240904T100352Z
LAST-MODIFIED:20240904T100352Z
UID:2690-1723420800-1724630399@opticaliazorrilla49.es
SUMMARY:VACACIONES BELEN
DESCRIPTION:VACACIONES BELEN.12-25 AGOSTO
URL:https://opticaliazorrilla49.es/evento/vacaciones-belen-4/
CATEGORIES:Vacaciones
END:VEVENT
BEGIN:VEVENT
DTSTART;VALUE=DATE:20240816
DTEND;VALUE=DATE:20240823
DTSTAMP:20260424T085433
CREATED:20240506T072009Z
LAST-MODIFIED:20240506T072009Z
UID:2149-1723766400-1724371199@opticaliazorrilla49.es
SUMMARY:Vacaciones Lucía
DESCRIPTION:Vacaciones verano. Del 16 al 22 de agosto. 7 días
URL:https://opticaliazorrilla49.es/evento/vacaciones-lucia-2/
CATEGORIES:Vacaciones
END:VEVENT
BEGIN:VEVENT
DTSTART;VALUE=DATE:20240826
DTEND;VALUE=DATE:20240902
DTSTAMP:20260424T085433
CREATED:20240904T100536Z
LAST-MODIFIED:20240904T100536Z
UID:2692-1724630400-1725235199@opticaliazorrilla49.es
SUMMARY:VACACIONES ALBERTO BARRADO
DESCRIPTION:VACACIONES ALBERTO BARRADO (26AGOSTO-01 SEPTIEMBRE)
URL:https://opticaliazorrilla49.es/evento/vacaciones-alberto-barrado-6/
CATEGORIES:Vacaciones
END:VEVENT
END:VCALENDAR