BEGIN:VCALENDAR
VERSION:2.0
PRODID:-//Opticalia Zorrilla 49 - ECPv6.14.1//NONSGML v1.0//EN
CALSCALE:GREGORIAN
METHOD:PUBLISH
X-ORIGINAL-URL:https://opticaliazorrilla49.es
X-WR-CALDESC:Eventos para Opticalia Zorrilla 49
REFRESH-INTERVAL;VALUE=DURATION:PT1H
X-Robots-Tag:noindex
X-PUBLISHED-TTL:PT1H
BEGIN:VTIMEZONE
TZID:UTC
BEGIN:STANDARD
TZOFFSETFROM:+0000
TZOFFSETTO:+0000
TZNAME:UTC
DTSTART:20240101T000000
END:STANDARD
END:VTIMEZONE
BEGIN:VEVENT
DTSTART;VALUE=DATE:20240601
DTEND;VALUE=DATE:20240602
DTSTAMP:20260424T120244
CREATED:20240528T090220Z
LAST-MODIFIED:20240528T090254Z
UID:2247-1717200000-1717286399@opticaliazorrilla49.es
SUMMARY:Día libre_Incentivos Paula
DESCRIPTION:1 junio. 1 día. Día libre de incentivos por cumplimiento de objetivos de abril.
URL:https://opticaliazorrilla49.es/evento/dia-libre_incentivos-paula/
CATEGORIES:Día libre_Incentivos
END:VEVENT
BEGIN:VEVENT
DTSTART;VALUE=DATE:20240612
DTEND;VALUE=DATE:20240613
DTSTAMP:20260424T120244
CREATED:20240606T113101Z
LAST-MODIFIED:20240606T121132Z
UID:2314-1718150400-1718236799@opticaliazorrilla49.es
SUMMARY:Vacaciones Belén
DESCRIPTION:Vacaciones. 12 de junio. 1 día de vacaciones del 2023.
URL:https://opticaliazorrilla49.es/evento/vacaciones-belen-2/
CATEGORIES:Vacaciones
END:VEVENT
BEGIN:VEVENT
DTSTART;VALUE=DATE:20240613
DTEND;VALUE=DATE:20240614
DTSTAMP:20260424T120244
CREATED:20240611T083635Z
LAST-MODIFIED:20240611T083653Z
UID:2330-1718236800-1718323199@opticaliazorrilla49.es
SUMMARY:Vacaciones Alberto Rojo
DESCRIPTION:Vacaciones. Día 13 de junio. 1 día por situación excepcional.
URL:https://opticaliazorrilla49.es/evento/vacaciones-alberto-rojo-5/
CATEGORIES:Vacaciones
END:VEVENT
BEGIN:VEVENT
DTSTART;VALUE=DATE:20240621
DTEND;VALUE=DATE:20240622
DTSTAMP:20260424T120244
CREATED:20240604T084914Z
LAST-MODIFIED:20240604T084914Z
UID:2298-1718928000-1719014399@opticaliazorrilla49.es
SUMMARY:Día Asuntos Propios Alberto Rojo
DESCRIPTION:24 de junio día de asuntos propios por convenio. De Agosto del 23 a agosto del 24
URL:https://opticaliazorrilla49.es/evento/dia-asuntos-propios-alberto-rojo/
CATEGORIES:Asuntos propios
END:VEVENT
BEGIN:VEVENT
DTSTART;VALUE=DATE:20240622
DTEND;VALUE=DATE:20240623
DTSTAMP:20260424T120244
CREATED:20240528T090409Z
LAST-MODIFIED:20240528T101426Z
UID:2249-1719014400-1719100799@opticaliazorrilla49.es
SUMMARY:Día libre Incentivos_Alberto Rojo
DESCRIPTION:22 junio. 1 día. Día libre de incentivos por cumplimiento de objetivos de abril.
URL:https://opticaliazorrilla49.es/evento/dia-libre-incentivos_alberto-rojo/
CATEGORIES:Día libre_Incentivos
END:VEVENT
BEGIN:VEVENT
DTSTART;VALUE=DATE:20240624
DTEND;VALUE=DATE:20240701
DTSTAMP:20260424T120244
CREATED:20240417T114459Z
LAST-MODIFIED:20240417T114459Z
UID:2043-1719187200-1719791999@opticaliazorrilla49.es
SUMMARY:Vacaciones Belén
DESCRIPTION:Vacaciones. Del 24 al 30 de Junio. 4 días de las vacaciones son de días de vacaciones sobrantes de 2023. Total: 7 días
URL:https://opticaliazorrilla49.es/evento/vacaciones-belen/
CATEGORIES:Vacaciones
END:VEVENT
BEGIN:VEVENT
DTSTART;VALUE=DATE:20240624
DTEND;VALUE=DATE:20240702
DTSTAMP:20260424T120244
CREATED:20240528T083101Z
LAST-MODIFIED:20240528T083101Z
UID:2241-1719187200-1719878399@opticaliazorrilla49.es
SUMMARY:Vacaciones Lucía
DESCRIPTION:Vacaciones. Del 24 de junio al 1 de julio. 8 días
URL:https://opticaliazorrilla49.es/evento/vacaciones-lucia-3/
CATEGORIES:Vacaciones
END:VEVENT
END:VCALENDAR