BEGIN:VCALENDAR
VERSION:2.0
PRODID:-//Opticalia Zorrilla 49 - ECPv6.14.1//NONSGML v1.0//EN
CALSCALE:GREGORIAN
METHOD:PUBLISH
X-WR-CALNAME:Opticalia Zorrilla 49
X-ORIGINAL-URL:https://opticaliazorrilla49.es
X-WR-CALDESC:Eventos para Opticalia Zorrilla 49
REFRESH-INTERVAL;VALUE=DURATION:PT1H
X-Robots-Tag:noindex
X-PUBLISHED-TTL:PT1H
BEGIN:VTIMEZONE
TZID:UTC
BEGIN:STANDARD
TZOFFSETFROM:+0000
TZOFFSETTO:+0000
TZNAME:UTC
DTSTART:20240101T000000
END:STANDARD
END:VTIMEZONE
BEGIN:VEVENT
DTSTART;VALUE=DATE:20240401
DTEND;VALUE=DATE:20240408
DTSTAMP:20260424T151628
CREATED:20240305T122038Z
LAST-MODIFIED:20240305T122038Z
UID:1771-1711929600-1712534399@opticaliazorrilla49.es
SUMMARY:Vacaciones Alberto Rojo
DESCRIPTION:del 1 al 7 de abril. 7 días.
URL:https://opticaliazorrilla49.es/evento/vacaciones-alberto-rojo-2/
CATEGORIES:Vacaciones,Valladolid
END:VEVENT
BEGIN:VEVENT
DTSTART;VALUE=DATE:20240412
DTEND;VALUE=DATE:20240415
DTSTAMP:20260424T151628
CREATED:20240417T113510Z
LAST-MODIFIED:20240417T113510Z
UID:2031-1712880000-1713139199@opticaliazorrilla49.es
SUMMARY:Vacaciones Alberto Barrado
DESCRIPTION:Vacaciones. Del 12 al 14 de abril. 3 días.
URL:https://opticaliazorrilla49.es/evento/vacaciones-alberto-barrado-2/
CATEGORIES:Vacaciones
END:VEVENT
BEGIN:VEVENT
DTSTART;VALUE=DATE:20240420
DTEND;VALUE=DATE:20240421
DTSTAMP:20260424T151628
CREATED:20240417T105847Z
LAST-MODIFIED:20240417T110102Z
UID:2029-1713571200-1713657599@opticaliazorrilla49.es
SUMMARY:Día libre_Incentivos Lucía
DESCRIPTION:20 de abril. 1 día. Día libre de incentivos por cumplimiento de objetivos de febrero.
URL:https://opticaliazorrilla49.es/evento/dia-libre_incentivos-lucia-2/
CATEGORIES:Vacaciones
END:VEVENT
END:VCALENDAR