BEGIN:VCALENDAR
VERSION:2.0
PRODID:-//Opticalia Zorrilla 49 - ECPv6.14.1//NONSGML v1.0//EN
CALSCALE:GREGORIAN
METHOD:PUBLISH
X-ORIGINAL-URL:https://opticaliazorrilla49.es
X-WR-CALDESC:Eventos para Opticalia Zorrilla 49
REFRESH-INTERVAL;VALUE=DURATION:PT1H
X-Robots-Tag:noindex
X-PUBLISHED-TTL:PT1H
BEGIN:VTIMEZONE
TZID:UTC
BEGIN:STANDARD
TZOFFSETFROM:+0000
TZOFFSETTO:+0000
TZNAME:UTC
DTSTART:20250101T000000
END:STANDARD
END:VTIMEZONE
BEGIN:VEVENT
DTSTART;VALUE=DATE:20251215
DTEND;VALUE=DATE:20251222
DTSTAMP:20260425T122429
CREATED:20251201T080935Z
LAST-MODIFIED:20251201T080935Z
UID:17183-1765756800-1766361599@opticaliazorrilla49.es
SUMMARY:VACACIONES MIRIAM ARIAS
DESCRIPTION:VACACIONES MIRIAM ARIAS (15-21 DICIEMBRE) 7
URL:https://opticaliazorrilla49.es/evento/vacaciones-miriam-arias/
CATEGORIES:Vacaciones,Valladolid
END:VEVENT
BEGIN:VEVENT
DTSTART;VALUE=DATE:20251215
DTEND;VALUE=DATE:20251222
DTSTAMP:20260425T122429
CREATED:20251201T103847Z
LAST-MODIFIED:20251201T103847Z
UID:17190-1765756800-1766361599@opticaliazorrilla49.es
SUMMARY:VACACIONES CRISTINA
DESCRIPTION:VACACIONES CRISTINA (15-21 DICIEMBRE)
URL:https://opticaliazorrilla49.es/evento/vacaciones-cristina/
CATEGORIES:Vacaciones,Valladolid
END:VEVENT
BEGIN:VEVENT
DTSTART;VALUE=DATE:20251222
DTEND;VALUE=DATE:20251223
DTSTAMP:20260425T122429
CREATED:20251211T075054Z
LAST-MODIFIED:20251211T075054Z
UID:17236-1766361600-1766447999@opticaliazorrilla49.es
SUMMARY:VACACIONES ANA CONDE
DESCRIPTION:VACACIONES ANA CONDE (22/12/2025)
URL:https://opticaliazorrilla49.es/evento/vacaciones-ana-conde-3/
CATEGORIES:Vacaciones,Valladolid
END:VEVENT
BEGIN:VEVENT
DTSTART;VALUE=DATE:20251226
DTEND;VALUE=DATE:20251227
DTSTAMP:20260425T122429
CREATED:20251211T075007Z
LAST-MODIFIED:20251211T075007Z
UID:17234-1766707200-1766793599@opticaliazorrilla49.es
SUMMARY:VACACIONES DIEGO ASTUDILLO
DESCRIPTION:VACACIONES DIEGO ASTUDILLO (26/12/2025)
URL:https://opticaliazorrilla49.es/evento/vacaciones-diego-astudillo-3/
CATEGORIES:Vacaciones,Valladolid
END:VEVENT
BEGIN:VEVENT
DTSTART;VALUE=DATE:20251229
DTEND;VALUE=DATE:20260108
DTSTAMP:20260425T122429
CREATED:20251216T130107Z
LAST-MODIFIED:20251216T130107Z
UID:17255-1766966400-1767830399@opticaliazorrilla49.es
SUMMARY:VACACIONES BELEN RIVERA
DESCRIPTION:VACACIONES BELEN RIVERA (29 DIC- 7 ENER) 10 DIAS
URL:https://opticaliazorrilla49.es/evento/vacaciones-belen-rivera/
CATEGORIES:Vacaciones,Valladolid
END:VEVENT
END:VCALENDAR