BEGIN:VCALENDAR
VERSION:2.0
PRODID:-//Opticalia Zorrilla 49 - ECPv6.14.1//NONSGML v1.0//EN
CALSCALE:GREGORIAN
METHOD:PUBLISH
X-ORIGINAL-URL:https://opticaliazorrilla49.es
X-WR-CALDESC:Eventos para Opticalia Zorrilla 49
REFRESH-INTERVAL;VALUE=DURATION:PT1H
X-Robots-Tag:noindex
X-PUBLISHED-TTL:PT1H
BEGIN:VTIMEZONE
TZID:UTC
BEGIN:STANDARD
TZOFFSETFROM:+0000
TZOFFSETTO:+0000
TZNAME:UTC
DTSTART:20250101T000000
END:STANDARD
END:VTIMEZONE
BEGIN:VEVENT
DTSTART;VALUE=DATE:20250804
DTEND;VALUE=DATE:20250811
DTSTAMP:20260425T184646
CREATED:20250612T131830Z
LAST-MODIFIED:20250612T131949Z
UID:12757-1754265600-1754870399@opticaliazorrilla49.es
SUMMARY:VACACIONES PAULA CALLES
DESCRIPTION:VACACIONES PAULA CALLES (04-10 AGOSTO) 7 DÍAS
URL:https://opticaliazorrilla49.es/evento/vacaciones-paula-calles-2/
CATEGORIES:Vacaciones,Valladolid
END:VEVENT
BEGIN:VEVENT
DTSTART;VALUE=DATE:20250811
DTEND;VALUE=DATE:20250818
DTSTAMP:20260425T184646
CREATED:20250710T125313Z
LAST-MODIFIED:20250710T125313Z
UID:13318-1754870400-1755475199@opticaliazorrilla49.es
SUMMARY:VACACIONES VERONICA HERNANTES
DESCRIPTION:VACACIONES VERONICA HERNANTES (11-17 AGOSTO) 7 DIAS
URL:https://opticaliazorrilla49.es/evento/vacaciones-veronica-hernantes/
CATEGORIES:Vacaciones,Valladolid
END:VEVENT
BEGIN:VEVENT
DTSTART;VALUE=DATE:20250818
DTEND;VALUE=DATE:20250901
DTSTAMP:20260425T184646
CREATED:20250804T083104Z
LAST-MODIFIED:20250804T083104Z
UID:14331-1755475200-1756684799@opticaliazorrilla49.es
SUMMARY:VACACIONES JENIFER
DESCRIPTION:VACACIONES JENIFER (18-31 AGOSTO) 14 DÍAS
URL:https://opticaliazorrilla49.es/evento/vacaciones-jenifer-3/
CATEGORIES:Vacaciones,Valladolid
END:VEVENT
BEGIN:VEVENT
DTSTART;VALUE=DATE:20250821
DTEND;VALUE=DATE:20250828
DTSTAMP:20260425T184646
CREATED:20250612T131730Z
LAST-MODIFIED:20250612T131730Z
UID:12754-1755734400-1756339199@opticaliazorrilla49.es
SUMMARY:VACACIONES LUCÍA PRIETO
DESCRIPTION:VACACIONES LUCÍA PRIETO (21-27 AGOSTO) 7 DÍAS
URL:https://opticaliazorrilla49.es/evento/vacaciones-lucia-prieto-4/
CATEGORIES:Vacaciones,Valladolid
END:VEVENT
END:VCALENDAR