BEGIN:VCALENDAR
VERSION:2.0
PRODID:-//Opticalia Zorrilla 49 - ECPv6.14.1//NONSGML v1.0//EN
CALSCALE:GREGORIAN
METHOD:PUBLISH
X-ORIGINAL-URL:https://opticaliazorrilla49.es
X-WR-CALDESC:Eventos para Opticalia Zorrilla 49
REFRESH-INTERVAL;VALUE=DURATION:PT1H
X-Robots-Tag:noindex
X-PUBLISHED-TTL:PT1H
BEGIN:VTIMEZONE
TZID:UTC
BEGIN:STANDARD
TZOFFSETFROM:+0000
TZOFFSETTO:+0000
TZNAME:UTC
DTSTART:20250101T000000
END:STANDARD
END:VTIMEZONE
BEGIN:VEVENT
DTSTART;VALUE=DATE:20250217
DTEND;VALUE=DATE:20250224
DTSTAMP:20260426T034939
CREATED:20250207T065812Z
LAST-MODIFIED:20250207T065812Z
UID:4452-1739750400-1740355199@opticaliazorrilla49.es
SUMMARY:VACACIONES LUCIA
DESCRIPTION:VACACIONES LUCIA (17-23 FEBRERO) 7 DÍAS
URL:https://opticaliazorrilla49.es/evento/vacaciones-lucia-4/
CATEGORIES:Vacaciones,Valladolid
END:VEVENT
END:VCALENDAR