BEGIN:VCALENDAR
VERSION:2.0
PRODID:-//Opticalia Zorrilla 49 - ECPv6.14.1//NONSGML v1.0//EN
CALSCALE:GREGORIAN
METHOD:PUBLISH
X-ORIGINAL-URL:https://opticaliazorrilla49.es
X-WR-CALDESC:Eventos para Opticalia Zorrilla 49
REFRESH-INTERVAL;VALUE=DURATION:PT1H
X-Robots-Tag:noindex
X-PUBLISHED-TTL:PT1H
BEGIN:VTIMEZONE
TZID:UTC
BEGIN:STANDARD
TZOFFSETFROM:+0000
TZOFFSETTO:+0000
TZNAME:UTC
DTSTART:20250101T000000
END:STANDARD
END:VTIMEZONE
BEGIN:VEVENT
DTSTART;VALUE=DATE:20251010
DTEND;VALUE=DATE:20251011
DTSTAMP:20260421T103008
CREATED:20251008T113524Z
LAST-MODIFIED:20251008T113524Z
UID:16961-1760054400-1760140799@opticaliazorrilla49.es
SUMMARY:DÍA INCENTIVOS SEPTIEMBRE SILVIA
DESCRIPTION:DÍA INCENTIVOS SEPTIEMBRE SILVIA (10/10)
URL:https://opticaliazorrilla49.es/evento/dia-incentivos-septiembre-silvia/
CATEGORIES:Día libre_Incentivos,Valladolid
END:VEVENT
BEGIN:VEVENT
DTSTART;VALUE=DATE:20251025
DTEND;VALUE=DATE:20251026
DTSTAMP:20260421T103008
CREATED:20251008T112233Z
LAST-MODIFIED:20251008T112233Z
UID:16959-1761350400-1761436799@opticaliazorrilla49.es
SUMMARY:DÍA DE INCENTIVOS SEPTIEMBRE VERONICA
DESCRIPTION:DÍA DE INCENTIVOS SEPTIEMBRE VERONICA (25/10)
URL:https://opticaliazorrilla49.es/evento/dia-de-incentivos-septiembre-veronica/
CATEGORIES:Día libre_Incentivos,Valladolid
END:VEVENT
BEGIN:VEVENT
DTSTART;VALUE=DATE:20251025
DTEND;VALUE=DATE:20251026
DTSTAMP:20260421T103008
CREATED:20251008T113658Z
LAST-MODIFIED:20251008T113658Z
UID:16963-1761350400-1761436799@opticaliazorrilla49.es
SUMMARY:DÍA INCENTIVOS DE SEPTIEMBRE DIEGO
DESCRIPTION:DÍA INCENTIVOS DE SEPTIEMBRE DIEGO (25/10)
URL:https://opticaliazorrilla49.es/evento/dia-incentivos-de-septiembre-diego/
CATEGORIES:Día libre_Incentivos,Valladolid
END:VEVENT
BEGIN:VEVENT
DTSTART;VALUE=DATE:20251028
DTEND;VALUE=DATE:20251029
DTSTAMP:20260421T103008
CREATED:20251020T121123Z
LAST-MODIFIED:20251020T121123Z
UID:17019-1761609600-1761695999@opticaliazorrilla49.es
SUMMARY:DÍA DE INCENTIVO SEPTIEMBRE ANA CONDE
DESCRIPTION:DÍA DE INCENTIVO SEPTIEMBRE ANA CONDE (POR LA MAÑANA)
URL:https://opticaliazorrilla49.es/evento/dia-de-incentivo-septiembre-ana-conde/
CATEGORIES:Día libre_Incentivos,Valladolid
END:VEVENT
END:VCALENDAR