BEGIN:VCALENDAR
VERSION:2.0
PRODID:-//Opticalia Zorrilla 49 - ECPv6.14.1//NONSGML v1.0//EN
CALSCALE:GREGORIAN
METHOD:PUBLISH
X-ORIGINAL-URL:https://opticaliazorrilla49.es
X-WR-CALDESC:Eventos para Opticalia Zorrilla 49
REFRESH-INTERVAL;VALUE=DURATION:PT1H
X-Robots-Tag:noindex
X-PUBLISHED-TTL:PT1H
BEGIN:VTIMEZONE
TZID:UTC
BEGIN:STANDARD
TZOFFSETFROM:+0000
TZOFFSETTO:+0000
TZNAME:UTC
DTSTART:20240101T000000
END:STANDARD
END:VTIMEZONE
BEGIN:VEVENT
DTSTART;VALUE=DATE:20241205
DTEND;VALUE=DATE:20241206
DTSTAMP:20260423T181422
CREATED:20241210T091513Z
LAST-MODIFIED:20241210T091513Z
UID:3514-1733356800-1733443199@opticaliazorrilla49.es
SUMMARY:DÍA LIBRE INCENTIVO NOVIEMBRE ALBERTO BARRADO
DESCRIPTION:DÍA LIBRE INCENTIVO NOVIEMBRE ALBERTO BARRADO (5/12) 1 DÍA
URL:https://opticaliazorrilla49.es/evento/dia-libre-incentivo-noviembre-alberto-barrado-2/
CATEGORIES:Día libre_Incentivos,Valladolid
END:VEVENT
BEGIN:VEVENT
DTSTART;VALUE=DATE:20241207
DTEND;VALUE=DATE:20241208
DTSTAMP:20260423T181422
CREATED:20241210T091426Z
LAST-MODIFIED:20241210T091426Z
UID:3512-1733529600-1733615999@opticaliazorrilla49.es
SUMMARY:DÍA LIBRE INCENTIVO NOVIEMBRE ALBERTO BARRADO
DESCRIPTION:DÍA LIBRE INCENTIVO NOVIEMBRE ALBERTO BARRADO ( 7/12) 1 DÍA
URL:https://opticaliazorrilla49.es/evento/dia-libre-incentivo-noviembre-alberto-barrado/
CATEGORIES:Día libre_Incentivos,Valladolid
END:VEVENT
BEGIN:VEVENT
DTSTART;VALUE=DATE:20241214
DTEND;VALUE=DATE:20241215
DTSTAMP:20260423T181422
CREATED:20250109T100242Z
LAST-MODIFIED:20250109T100242Z
UID:4197-1734134400-1734220799@opticaliazorrilla49.es
SUMMARY:DÍA INCENTIVO DE OCTUBRE LUCIA
DESCRIPTION:DÍA INCENTIVO DE OCTUBRE LUCIA (14/12)  DÍA
URL:https://opticaliazorrilla49.es/evento/dia-incentivo-de-octubre-lucia/
CATEGORIES:Día libre_Incentivos,Valladolid
END:VEVENT
BEGIN:VEVENT
DTSTART;VALUE=DATE:20241221
DTEND;VALUE=DATE:20241222
DTSTAMP:20260423T181422
CREATED:20241218T091244Z
LAST-MODIFIED:20241218T091244Z
UID:4031-1734739200-1734825599@opticaliazorrilla49.es
SUMMARY:DÍA DE INCENTIVO NOVIEMBRE PAULA
DESCRIPTION:DÍA DE INCENTIVO NOVIEMBRE PAULA (21/12) 1 DÍA
URL:https://opticaliazorrilla49.es/evento/dia-de-incentivo-noviembre-paula/
CATEGORIES:Día libre_Incentivos,Valladolid
END:VEVENT
BEGIN:VEVENT
DTSTART;VALUE=DATE:20241228
DTEND;VALUE=DATE:20241229
DTSTAMP:20260423T181422
CREATED:20241218T090845Z
LAST-MODIFIED:20241218T090845Z
UID:4029-1735344000-1735430399@opticaliazorrilla49.es
SUMMARY:DÍA INCENTIVO NOVIEMBRE VERONICA HERNANTES
DESCRIPTION:DÍA INCENTIVO NOVIEMBRE VERONICA HERNANTES ( 24/12) 1 DÍA
URL:https://opticaliazorrilla49.es/evento/dia-incentivo-noviembre-veronica-hernantes/
CATEGORIES:Día libre_Incentivos,Valladolid
END:VEVENT
END:VCALENDAR