BEGIN:VCALENDAR
VERSION:2.0
PRODID:-//Opticalia Zorrilla 49 - ECPv6.14.1//NONSGML v1.0//EN
CALSCALE:GREGORIAN
METHOD:PUBLISH
X-WR-CALNAME:Opticalia Zorrilla 49
X-ORIGINAL-URL:https://opticaliazorrilla49.es
X-WR-CALDESC:Eventos para Opticalia Zorrilla 49
REFRESH-INTERVAL;VALUE=DURATION:PT1H
X-Robots-Tag:noindex
X-PUBLISHED-TTL:PT1H
BEGIN:VTIMEZONE
TZID:UTC
BEGIN:STANDARD
TZOFFSETFROM:+0000
TZOFFSETTO:+0000
TZNAME:UTC
DTSTART:20240101T000000
END:STANDARD
END:VTIMEZONE
BEGIN:VEVENT
DTSTART;VALUE=DATE:20240921
DTEND;VALUE=DATE:20240922
DTSTAMP:20260423T223759
CREATED:20240920T073257Z
LAST-MODIFIED:20240920T073257Z
UID:2742-1726876800-1726963199@opticaliazorrilla49.es
SUMMARY:DIA LIBRE INCENTIVOS LUCIA
DESCRIPTION:DIA LIBRE INCENTIVOS JULIO LUCIA
URL:https://opticaliazorrilla49.es/evento/dia-libre-incentivos-lucia/
CATEGORIES:Día libre_Incentivos
END:VEVENT
BEGIN:VEVENT
DTSTART;VALUE=DATE:20240928
DTEND;VALUE=DATE:20240929
DTSTAMP:20260423T223759
CREATED:20240920T073342Z
LAST-MODIFIED:20240920T073342Z
UID:2744-1727481600-1727567999@opticaliazorrilla49.es
SUMMARY:DIAL LIBRE INCENETIVOS JULIO PAULA
DESCRIPTION:DIA LIBRE INCENTIVOS JULIO PAULA
URL:https://opticaliazorrilla49.es/evento/dial-libre-incenetivos-julio-paula/
CATEGORIES:Día libre_Incentivos
END:VEVENT
END:VCALENDAR