BEGIN:VCALENDAR
VERSION:2.0
PRODID:-//Opticalia Zorrilla 49 - ECPv6.14.1//NONSGML v1.0//EN
CALSCALE:GREGORIAN
METHOD:PUBLISH
X-WR-CALNAME:Opticalia Zorrilla 49
X-ORIGINAL-URL:https://opticaliazorrilla49.es
X-WR-CALDESC:Eventos para Opticalia Zorrilla 49
REFRESH-INTERVAL;VALUE=DURATION:PT1H
X-Robots-Tag:noindex
X-PUBLISHED-TTL:PT1H
BEGIN:VTIMEZONE
TZID:UTC
BEGIN:STANDARD
TZOFFSETFROM:+0000
TZOFFSETTO:+0000
TZNAME:UTC
DTSTART:20240101T000000
END:STANDARD
END:VTIMEZONE
BEGIN:VEVENT
DTSTART;VALUE=DATE:20240511
DTEND;VALUE=DATE:20240512
DTSTAMP:20260424T042034
CREATED:20240528T090045Z
LAST-MODIFIED:20240528T090045Z
UID:2245-1715385600-1715471999@opticaliazorrilla49.es
SUMMARY:Día libre_Incentivos Alberto Barrado
DESCRIPTION:11 de mayo. 1 día. Día libre de incentivos por cumplimiento de objetivos de abril.
URL:https://opticaliazorrilla49.es/evento/dia-libre_incentivos-alberto-barrado-2/
CATEGORIES:Día libre_Incentivos
END:VEVENT
BEGIN:VEVENT
DTSTART;VALUE=DATE:20240525
DTEND;VALUE=DATE:20240526
DTSTAMP:20260424T042034
CREATED:20240528T085944Z
LAST-MODIFIED:20240528T085944Z
UID:2243-1716595200-1716681599@opticaliazorrilla49.es
SUMMARY:Día libre_Incentivos Lucía
DESCRIPTION:25 de mayo. 1 día. Día libre de incentivos por cumplimiento de objetivos de abril.
URL:https://opticaliazorrilla49.es/evento/dia-libre_incentivos-lucia-3/
CATEGORIES:Día libre_Incentivos
END:VEVENT
END:VCALENDAR