BEGIN:VCALENDAR
VERSION:2.0
PRODID:-//Opticalia Zorrilla 49 - ECPv6.14.1//NONSGML v1.0//EN
CALSCALE:GREGORIAN
METHOD:PUBLISH
X-ORIGINAL-URL:https://opticaliazorrilla49.es
X-WR-CALDESC:Eventos para Opticalia Zorrilla 49
REFRESH-INTERVAL;VALUE=DURATION:PT1H
X-Robots-Tag:noindex
X-PUBLISHED-TTL:PT1H
BEGIN:VTIMEZONE
TZID:UTC
BEGIN:STANDARD
TZOFFSETFROM:+0000
TZOFFSETTO:+0000
TZNAME:UTC
DTSTART:20250101T000000
END:STANDARD
END:VTIMEZONE
BEGIN:VEVENT
DTSTART;VALUE=DATE:20250228
DTEND;VALUE=DATE:20250301
DTSTAMP:20260422T083810
CREATED:20250225T125427Z
LAST-MODIFIED:20250225T125427Z
UID:4673-1740700800-1740787199@opticaliazorrilla49.es
SUMMARY:DÍA ASUNTOS PROPIOS PAULA CALLES
DESCRIPTION:DÍA ASUNTOS PROPIOS PAULA CALLES 28/02/25: 1 DÍA
URL:https://opticaliazorrilla49.es/evento/dia-asuntos-propios-paula-calles/
CATEGORIES:Asuntos propios
END:VEVENT
END:VCALENDAR