BEGIN:VCALENDAR
VERSION:2.0
PRODID:-//Opticalia Zorrilla 49 - ECPv6.14.1//NONSGML v1.0//EN
CALSCALE:GREGORIAN
METHOD:PUBLISH
X-WR-CALNAME:Opticalia Zorrilla 49
X-ORIGINAL-URL:https://opticaliazorrilla49.es
X-WR-CALDESC:Eventos para Opticalia Zorrilla 49
REFRESH-INTERVAL;VALUE=DURATION:PT1H
X-Robots-Tag:noindex
X-PUBLISHED-TTL:PT1H
BEGIN:VTIMEZONE
TZID:UTC
BEGIN:STANDARD
TZOFFSETFROM:+0000
TZOFFSETTO:+0000
TZNAME:UTC
DTSTART:20240101T000000
END:STANDARD
END:VTIMEZONE
BEGIN:VEVENT
DTSTART;VALUE=DATE:20240726
DTEND;VALUE=DATE:20240727
DTSTAMP:20260422T204516
CREATED:20240604T110920Z
LAST-MODIFIED:20240604T110920Z
UID:2303-1721952000-1722038399@opticaliazorrilla49.es
SUMMARY:Día Asuntos Propios Jenifer
DESCRIPTION:26 de julio día de asuntos propios por convenio. Correspondiente al año 2024
URL:https://opticaliazorrilla49.es/evento/dia-asuntos-propios-jenifer/
CATEGORIES:Asuntos propios
END:VEVENT
END:VCALENDAR